BEGIN:VCALENDAR
VERSION:2.0
PRODID:-//Alpine Bay Golf Club - ECPv6.15.20//NONSGML v1.0//EN
CALSCALE:GREGORIAN
METHOD:PUBLISH
X-ORIGINAL-URL:https://alpinebaygolf.com
X-WR-CALDESC:Events for Alpine Bay Golf Club
REFRESH-INTERVAL;VALUE=DURATION:PT1H
X-Robots-Tag:noindex
X-PUBLISHED-TTL:PT1H
BEGIN:VTIMEZONE
TZID:America/Toronto
BEGIN:DAYLIGHT
TZOFFSETFROM:-0500
TZOFFSETTO:-0400
TZNAME:EDT
DTSTART:20240310T070000
END:DAYLIGHT
BEGIN:STANDARD
TZOFFSETFROM:-0400
TZOFFSETTO:-0500
TZNAME:EST
DTSTART:20241103T060000
END:STANDARD
BEGIN:DAYLIGHT
TZOFFSETFROM:-0500
TZOFFSETTO:-0400
TZNAME:EDT
DTSTART:20250309T070000
END:DAYLIGHT
BEGIN:STANDARD
TZOFFSETFROM:-0400
TZOFFSETTO:-0500
TZNAME:EST
DTSTART:20251102T060000
END:STANDARD
BEGIN:DAYLIGHT
TZOFFSETFROM:-0500
TZOFFSETTO:-0400
TZNAME:EDT
DTSTART:20260308T070000
END:DAYLIGHT
BEGIN:STANDARD
TZOFFSETFROM:-0400
TZOFFSETTO:-0500
TZNAME:EST
DTSTART:20261101T060000
END:STANDARD
END:VTIMEZONE
BEGIN:VEVENT
DTSTART;VALUE=DATE:20250901
DTEND;VALUE=DATE:20250902
DTSTAMP:20260423T074701
CREATED:20240826T151059Z
LAST-MODIFIED:20250827T134839Z
UID:12992-1756684800-1756771199@alpinebaygolf.com
SUMMARY:Labor Day Yellow Ball Dogfight 9am
DESCRIPTION:The MGA will sponsor our annual Labor Day Yellow Ball Dogfight. This will be a shotgun start beginning at 9am. The course will be closed for all other golf. \nYou must be signed up by 3pm on Sunday August 31. The teams will be randomly drawn and each will consist of an A\,B\,C & D golfer. \nEach team is issued one numbered Yellow Ball and it must be rotated among the four golfers. If a team loses their Yellow ball\, they are eliminated from the Yellow ball portion of the dogfight. \nThe cost to enter will be $30 plus the cost of golf. You must have established dogfight points or an up to date GHIN handicap. All other golfers will be frozen at +/- 3 points. \nThe attached photos demonstrate the effort that teams will put forth to try to find that Yellow Ball. (none of these balls were recovered).
URL:https://alpinebaygolf.com/event/labor-day-yellow-ball-dogfight-9am/
END:VEVENT
BEGIN:VEVENT
DTSTART;VALUE=DATE:20250920
DTEND;VALUE=DATE:20250922
DTSTAMP:20260423T074701
CREATED:20240826T154410Z
LAST-MODIFIED:20250216T173319Z
UID:13041-1758326400-1758499199@alpinebaygolf.com
SUMMARY:2025 Member/Guest Tournament
DESCRIPTION:This is a two day event. The round on Saturday will be a shamble format and Sunday’s round will be a scramble. We will serve a meal after Saturday’s round and then a Calcutta will be conducted. The Calcutta will be based on Sunday’s scores only. \nWe hope our members will invite a potential new member or an out of town guest.
URL:https://alpinebaygolf.com/event/2024-member-guest-tournament/
END:VEVENT
END:VCALENDAR