BEGIN:VCALENDAR
VERSION:2.0
PRODID:-//Alpine Bay Golf Club - ECPv6.15.20//NONSGML v1.0//EN
CALSCALE:GREGORIAN
METHOD:PUBLISH
X-WR-CALNAME:Alpine Bay Golf Club
X-ORIGINAL-URL:https://alpinebaygolf.com
X-WR-CALDESC:Events for Alpine Bay Golf Club
REFRESH-INTERVAL;VALUE=DURATION:PT1H
X-Robots-Tag:noindex
X-PUBLISHED-TTL:PT1H
BEGIN:VTIMEZONE
TZID:America/Toronto
BEGIN:DAYLIGHT
TZOFFSETFROM:-0500
TZOFFSETTO:-0400
TZNAME:EDT
DTSTART:20250309T070000
END:DAYLIGHT
BEGIN:STANDARD
TZOFFSETFROM:-0400
TZOFFSETTO:-0500
TZNAME:EST
DTSTART:20251102T060000
END:STANDARD
BEGIN:DAYLIGHT
TZOFFSETFROM:-0500
TZOFFSETTO:-0400
TZNAME:EDT
DTSTART:20260308T070000
END:DAYLIGHT
BEGIN:STANDARD
TZOFFSETFROM:-0400
TZOFFSETTO:-0500
TZNAME:EST
DTSTART:20261101T060000
END:STANDARD
BEGIN:DAYLIGHT
TZOFFSETFROM:-0500
TZOFFSETTO:-0400
TZNAME:EDT
DTSTART:20270314T070000
END:DAYLIGHT
BEGIN:STANDARD
TZOFFSETFROM:-0400
TZOFFSETTO:-0500
TZNAME:EST
DTSTART:20271107T060000
END:STANDARD
END:VTIMEZONE
BEGIN:VEVENT
DTSTART;TZID=America/Toronto:20260421T120000
DTEND;TZID=America/Toronto:20260421T170000
DTSTAMP:20260423T043244
CREATED:20190325T114113Z
LAST-MODIFIED:20260407T132248Z
UID:5734-1776772800-1776790800@alpinebaygolf.com
SUMMARY:Tuesday Afternoon Match 12pm
DESCRIPTION:Four man teams playing 1&2 balls for $1 ea with $1 team birdies. $10 cap per player\, per team. Depending on total amount of players\, the details of the bet may be altered. You must be present or notify the clubhouse by 11:30pm if you plan to play.
URL:https://alpinebaygolf.com/event/afternoon-match-1pm-14/
END:VEVENT
END:VCALENDAR